BEGIN:VCALENDAR
VERSION:2.0
PRODID:-//SPARROWFELT - ECPv6.15.20//NONSGML v1.0//EN
CALSCALE:GREGORIAN
METHOD:PUBLISH
X-WR-CALNAME:SPARROWFELT
X-ORIGINAL-URL:https://sparrowfelt.com
X-WR-CALDESC:Events for SPARROWFELT
REFRESH-INTERVAL;VALUE=DURATION:PT1H
X-Robots-Tag:noindex
X-PUBLISHED-TTL:PT1H
BEGIN:VTIMEZONE
TZID:America/Vancouver
BEGIN:DAYLIGHT
TZOFFSETFROM:-0800
TZOFFSETTO:-0700
TZNAME:PDT
DTSTART:20250309T100000
END:DAYLIGHT
BEGIN:STANDARD
TZOFFSETFROM:-0700
TZOFFSETTO:-0800
TZNAME:PST
DTSTART:20251102T090000
END:STANDARD
BEGIN:DAYLIGHT
TZOFFSETFROM:-0800
TZOFFSETTO:-0700
TZNAME:PDT
DTSTART:20260308T100000
END:DAYLIGHT
BEGIN:STANDARD
TZOFFSETFROM:-0700
TZOFFSETTO:-0800
TZNAME:PST
DTSTART:20261101T090000
END:STANDARD
BEGIN:DAYLIGHT
TZOFFSETFROM:-0800
TZOFFSETTO:-0700
TZNAME:PDT
DTSTART:20270314T100000
END:DAYLIGHT
BEGIN:STANDARD
TZOFFSETFROM:-0700
TZOFFSETTO:-0800
TZNAME:PST
DTSTART:20271107T090000
END:STANDARD
END:VTIMEZONE
BEGIN:VEVENT
DTSTART;TZID=America/Vancouver:20260425T100000
DTEND;TZID=America/Vancouver:20260425T160000
DTSTAMP:20260425T060714
CREATED:20260316T192914Z
LAST-MODIFIED:20260425T034759Z
UID:3598-1777111200-1777132800@sparrowfelt.com
SUMMARY:ReNew Art Faire
DESCRIPTION:I’m excited to be participating in the second year of this innovative event. I’ll have a table displaying my work\, featuring some of my eco-urns\, as well as felted vessels\, sauna hats and more! If you’re in the qathet area on April 25\, come and see me at Dwight Hall. \nAdmission is free. More info here.
URL:https://sparrowfelt.com/event/renew-art-faire/
LOCATION:Dwight Hall\, Walnut St\, Powell River\, BC\, Canada
CATEGORIES:Events
ATTACH;FMTTYPE=image/jpeg:https://sparrowfelt.com/wp-content/uploads/2026/03/ReNew-Art-Faire-2026.jpeg
END:VEVENT
BEGIN:VEVENT
DTSTART;TZID=America/Vancouver:20260517T130000
DTEND;TZID=America/Vancouver:20260517T173000
DTSTAMP:20260425T060714
CREATED:20260418T203627Z
LAST-MODIFIED:20260423T002159Z
UID:3721-1779022800-1779039000@sparrowfelt.com
SUMMARY:Round Wall Hanging
DESCRIPTION:Learn the art of wet felting and take home a framed 10″ hanging of your own design. For all levels of experience. \n 
URL:https://sparrowfelt.com/event/round-wall-hanging/
LOCATION:Sparrowfelt Fibre Art Studio\, 6848 Church St\, Powell River\, BC\, Canada\, V8A 3X1\, Powell River\, BC\, V8A 3X1\, Canada
CATEGORIES:Classes
ATTACH;FMTTYPE=image/jpeg:https://sparrowfelt.com/wp-content/uploads/2026/04/Wall-Hanging.jpeg
END:VEVENT
BEGIN:VEVENT
DTSTART;TZID=America/Vancouver:20260523T130000
DTEND;TZID=America/Vancouver:20260523T180000
DTSTAMP:20260425T060714
CREATED:20260412T194204Z
LAST-MODIFIED:20260425T035319Z
UID:3614-1779541200-1779559200@sparrowfelt.com
SUMMARY:Seapod
DESCRIPTION:Learn to make a hollow form in felt and create a 6″ textured pod inspired by sea creatures. \nFor all levels of experience.
URL:https://sparrowfelt.com/event/seapod/
LOCATION:Sparrowfelt Fibre Art Studio\, 6848 Church St\, Powell River\, BC\, Canada\, V8A 3X1\, Powell River\, BC\, V8A 3X1\, Canada
CATEGORIES:Classes
ATTACH;FMTTYPE=image/png:https://sparrowfelt.com/wp-content/uploads/2026/04/Seapods-2.png
END:VEVENT
BEGIN:VEVENT
DTSTART;TZID=America/Vancouver:20260531T130000
DTEND;TZID=America/Vancouver:20260531T180000
DTSTAMP:20260425T060714
CREATED:20260412T194532Z
LAST-MODIFIED:20260424T211910Z
UID:3625-1780232400-1780250400@sparrowfelt.com
SUMMARY:Column Vase
DESCRIPTION:Make a beautiful 9″ tall vase – just put a jar of water inside to hold fresh flowers! \nFor all levels of experience.
URL:https://sparrowfelt.com/event/make-a-column-vase/
LOCATION:Sparrowfelt Fibre Art Studio\, 6848 Church St\, Powell River\, BC\, Canada\, V8A 3X1\, Powell River\, BC\, V8A 3X1\, Canada
CATEGORIES:Classes
ATTACH;FMTTYPE=image/png:https://sparrowfelt.com/wp-content/uploads/2026/04/Column-Vase.png
END:VEVENT
BEGIN:VEVENT
DTSTART;TZID=America/Vancouver:20260606T130000
DTEND;TZID=America/Vancouver:20260606T180000
DTSTAMP:20260425T060714
CREATED:20260423T001645Z
LAST-MODIFIED:20260423T002359Z
UID:3752-1780750800-1780768800@sparrowfelt.com
SUMMARY:Rope-Handled Bowl
DESCRIPTION:Create a unique and practical bowl with jute handles\, around 9″ wide. \nFor those with felting experience.
URL:https://sparrowfelt.com/event/rope-handled-bowl/
LOCATION:Sparrowfelt Fibre Art Studio\, 6848 Church St\, Powell River\, BC\, Canada\, V8A 3X1\, Powell River\, BC\, V8A 3X1\, Canada
CATEGORIES:Classes
ATTACH;FMTTYPE=image/png:https://sparrowfelt.com/wp-content/uploads/2026/04/Rope-Handled-Bowl.png
END:VEVENT
BEGIN:VEVENT
DTSTART;VALUE=DATE:20260919
DTEND;VALUE=DATE:20260921
DTSTAMP:20260425T060714
CREATED:20260418T190920Z
LAST-MODIFIED:20260424T220624Z
UID:3713-1789776000-1789948799@sparrowfelt.com
SUMMARY:Two-Day Sauna Hat Workshop at Solsken Folk School
DESCRIPTION:Join me at beautiful Solsken Farm in Wildwood for this fun workshop where you will learn the ancient art of wet-felting with wool and create your very own sauna hat. \nBased on a traditional design\, these hats help to keep your head cool so you can enjoy the full benefits of sauna. \nSuitable for beginners and those with felting experience\, all materials provided. \nSat Sept 19 + Sun Sept 20; 1pm-5pm \n$300 \nLimited to 6 participants \nRegister at Solsken Folk School website. \n     
URL:https://sparrowfelt.com/event/make-a-sauna-hat-at-solsken-folk-school/
LOCATION:Solsken Farm\, 6701 McMahon Ave\, Powell River\, BC\, Canada
CATEGORIES:Classes
ATTACH;FMTTYPE=image/png:https://sparrowfelt.com/wp-content/uploads/2026/04/Val-and-Ness-Sauna-Hats.png
END:VEVENT
END:VCALENDAR